BEGIN:VCALENDAR
VERSION:2.0
PRODID:-//eventon.com NONSGML v1.0//EN
CALSCALE:GREGORIAN
METHOD:PUBLISH
BEGIN:VEVENT
UID:69e8a8d2eddaa
DTSTAMP:20260422T105410Z
DTSTART:20260523T150000Z
DTEND:20260523T170000Z
LOCATION:
SUMMARY:Spektakl „Triathlon Story” w Koszalinie: pełen humoru i niespodzianek wieczór teatralny
DESCRIPTION:23 maja 2026 roku w Koszalinie odbędzie się wyjątkowe wydarz
 enie teatralne – premiera spektaklu „Triathlon Story”\,  który z pew
 nością przyciągnie miłośników dobrej rozrywki i niebanalnych historii
 . Reżyserią tego niezwykłego przedstawienia zajmuje się Piotr Nowak\,  
 a scenariusz napisała Dorota Truskolaska Alibert. Spektakl będzie można 
 obejrzeć w dwóch terminach: o godzinie 17:00[..]\nhttps://afterwork.art/e
 vents/spektakl-triathlon-story-w-koszalinie-pelen-humoru-i-niespodzianek-wi
 eczor-teatralny
URL:https://afterwork.art/events/spektakl-triathlon-story-w-koszalinie-pelen-humoru-i-niespodzianek-wieczor-teatralny
END:VEVENT
END:VCALENDAR