BEGIN:VCALENDAR
VERSION:2.0
PRODID:-//eventon.com NONSGML v1.0//EN
CALSCALE:GREGORIAN
METHOD:PUBLISH
BEGIN:VEVENT
UID:69e4cfce18b85
DTSTAMP:20260419T125126Z
DTSTART:20250729T170000Z
DTEND:20250729T200000Z
LOCATION:
SUMMARY:Emeli Sandé /  Sopot - Opera Leśna
DESCRIPTION:Emeli Sandé: Muzyczna Ikona w Polsce! Już niebawem\,  jedna z
  największych osobowości muzycznych naszych czasów\,  Emeli Sandé\,  za
 gości na polskiej scenie! Ta utalentowana wokalistka zdobyła serca milion
 ów słuchaczy na całym świecie swoim niepowtarzalnym głosem\,  emocjona
 lnymi tekstami i wyjątkowym stylem. Koncert odbędzie się w malowniczej O
 perze Leśnej\,  a publiczność będzie miała[..]\nhttps://afterwork.art/
 events/emeli-sande-sopot-opera-lesna
URL:https://afterwork.art/events/emeli-sande-sopot-opera-lesna
END:VEVENT
END:VCALENDAR